BEGIN:VCALENDAR
VERSION:2.0
PRODID:-//HealthLinc - ECPv6.13.2.1//NONSGML v1.0//EN
CALSCALE:GREGORIAN
METHOD:PUBLISH
X-ORIGINAL-URL:https://healthlincchc.org
X-WR-CALDESC:Events for HealthLinc
REFRESH-INTERVAL;VALUE=DURATION:PT1H
X-Robots-Tag:noindex
X-PUBLISHED-TTL:PT1H
BEGIN:VTIMEZONE
TZID:America/Chicago
BEGIN:DAYLIGHT
TZOFFSETFROM:-0600
TZOFFSETTO:-0500
TZNAME:CDT
DTSTART:20260308T080000
END:DAYLIGHT
BEGIN:STANDARD
TZOFFSETFROM:-0500
TZOFFSETTO:-0600
TZNAME:CST
DTSTART:20261101T070000
END:STANDARD
END:VTIMEZONE
BEGIN:VEVENT
DTSTART;TZID=America/Chicago:20260821T100000
DTEND;TZID=America/Chicago:20260821T110000
DTSTAMP:20260424T043538
CREATED:20260123T154738Z
LAST-MODIFIED:20260123T154738Z
UID:22197-1787306400-1787310000@healthlincchc.org
SUMMARY:Yoga Baby Circle with HealthLinc and Divine Child Yoga
DESCRIPTION:Join HealthLinc and Divine Child Yoga for a baby yoga circle!\n\nBring your little one for a relaxing yoga session designed for babies and their caregivers.\n\nThis will be a series of events starting in February. The schedule includes:\n\n February 20 April 17 June 19 August 21 October 16 November 20\n\nTo make sure there is enough room for everyone\, please RSVP to Melissa at 219-872-6200 Ext. 2051.\n\nThese yoga sessions are designed for babies 2-12 months old. Please bring a blanket or a towel with you.
URL:https://healthlincchc.org/event/yoga-baby-circle-with-healthlinc-and-divine-child-yoga/2026-08-21/
LOCATION:HealthLinc Michigan City\, 200 Alfred St.\, Michigan City\, IN\, 46360\, United States
ATTACH;FMTTYPE=image/png:https://healthlincchc.org/wp-content/uploads/Baby-Yoga-Event-2026-Facebook-Banner-MC-ENG.png
GEO:41.7148113;-86.9001442
X-APPLE-STRUCTURED-LOCATION;VALUE=URI;X-ADDRESS=HealthLinc Michigan City 200 Alfred St. Michigan City IN 46360 United States;X-APPLE-RADIUS=500;X-TITLE=200 Alfred St.:geo:-86.9001442,41.7148113
END:VEVENT
BEGIN:VEVENT
DTSTART;TZID=America/Chicago:20260911T090000
DTEND;TZID=America/Chicago:20260911T110000
DTSTAMP:20260424T043538
CREATED:20260413T203821Z
LAST-MODIFIED:20260421T171939Z
UID:22515-1789117200-1789124400@healthlincchc.org
SUMMARY:TotLinc - HealthLinc Newton
DESCRIPTION:Join HealthLinc at The Harvest Hangout every second Friday of the month to learn through play at TotLinc. With fun activities\, resources and more\, you won’t want to miss it! \n📅Every second Friday of the month (6/12\, 7/10\, 8/14\, 9/11\, 10/9\, 11/13\, 12/11) \n⌚9:00 a.m.-11:00 a.m. \n📍The Harvest Hangout – 309 S. Newton St.\, Goodland\, IN 47948
URL:https://healthlincchc.org/event/22507/2026-09-11/
LOCATION:The Harvest Hangout\, 309 S. Newton St.\, Goodland\, 47948\, United States
ATTACH;FMTTYPE=image/png:https://healthlincchc.org/wp-content/uploads/TotLinc-2026-Facebook-Banner-NEWTON-ENG.png
END:VEVENT
BEGIN:VEVENT
DTSTART;TZID=America/Chicago:20261009T090000
DTEND;TZID=America/Chicago:20261009T110000
DTSTAMP:20260424T043538
CREATED:20260413T203821Z
LAST-MODIFIED:20260421T175013Z
UID:22516-1791536400-1791543600@healthlincchc.org
SUMMARY:TotLinc - HealthLinc Newton
DESCRIPTION:Join HealthLinc at The Harvest Hangout every second Friday of the month to learn through play at TotLinc. With fun activities\, resources and more\, you won’t want to miss it! \n📅Every second Friday of the month (6/12\, 7/10\, 8/14\, 9/11\, 10/9\, 11/13\, 12/11) \n⌚9:00 a.m.-11:00 a.m. \n📍The Harvest Hangout – 309 S. Newton St.\, Goodland\, IN 47948
URL:https://healthlincchc.org/event/22507/2026-10-09/
LOCATION:The Harvest Hangout\, 309 S. Newton St.\, Goodland\, 47948\, United States
ATTACH;FMTTYPE=image/png:https://healthlincchc.org/wp-content/uploads/TotLinc-2026-Facebook-Banner-NEWTON-ENG.png
END:VEVENT
BEGIN:VEVENT
DTSTART;TZID=America/Chicago:20261016T100000
DTEND;TZID=America/Chicago:20261016T110000
DTSTAMP:20260424T043538
CREATED:20260123T154738Z
LAST-MODIFIED:20260123T154738Z
UID:22198-1792144800-1792148400@healthlincchc.org
SUMMARY:Yoga Baby Circle with HealthLinc and Divine Child Yoga
DESCRIPTION:Join HealthLinc and Divine Child Yoga for a baby yoga circle!\n\nBring your little one for a relaxing yoga session designed for babies and their caregivers.\n\nThis will be a series of events starting in February. The schedule includes:\n\n February 20 April 17 June 19 August 21 October 16 November 20\n\nTo make sure there is enough room for everyone\, please RSVP to Melissa at 219-872-6200 Ext. 2051.\n\nThese yoga sessions are designed for babies 2-12 months old. Please bring a blanket or a towel with you.
URL:https://healthlincchc.org/event/yoga-baby-circle-with-healthlinc-and-divine-child-yoga/2026-10-16/
LOCATION:HealthLinc Michigan City\, 200 Alfred St.\, Michigan City\, IN\, 46360\, United States
ATTACH;FMTTYPE=image/png:https://healthlincchc.org/wp-content/uploads/Baby-Yoga-Event-2026-Facebook-Banner-MC-ENG.png
GEO:41.7148113;-86.9001442
X-APPLE-STRUCTURED-LOCATION;VALUE=URI;X-ADDRESS=HealthLinc Michigan City 200 Alfred St. Michigan City IN 46360 United States;X-APPLE-RADIUS=500;X-TITLE=200 Alfred St.:geo:-86.9001442,41.7148113
END:VEVENT
BEGIN:VEVENT
DTSTART;TZID=America/Chicago:20261028T110000
DTEND;TZID=America/Chicago:20261028T130000
DTSTAMP:20260424T043538
CREATED:20260213T153939Z
LAST-MODIFIED:20260213T153939Z
UID:22306-1793185200-1793192400@healthlincchc.org
SUMMARY:Medicare Presentation and Bingo
DESCRIPTION:Learn more about Medicare while trying your luck at Bingo during HealthLinc’s Medicare Presentation and Bingo events this February\, June\, and October! Bring a friend or family member with you to play bingo\, browse vendors\, enter raffles and enjoy snacks\, all while learning the ins and outs of Medicare. \n📅Wednesdays February 25\, June 24 and October 28 \n⌚11:00 a.m.-1:00 p.m. CST \n📍Wicker Memorial Park Clubhouse – 8554 Indianapolis Blvd.\, Highland\, IN 46322
URL:https://healthlincchc.org/event/medicare-presentation-and-bingo-3/
LOCATION:Wicker Memorial Park Clubhouse\, 8554 Indianapolis Blvd.\, Highland\, 46322\, United States
ATTACH;FMTTYPE=image/png:https://healthlincchc.org/wp-content/uploads/Medicare-BINGO-2026-Facebook-Banner-EC-ENG.png
END:VEVENT
BEGIN:VEVENT
DTSTART;TZID=America/Chicago:20261113T090000
DTEND;TZID=America/Chicago:20261113T110000
DTSTAMP:20260424T043538
CREATED:20260413T203821Z
LAST-MODIFIED:20260421T181937Z
UID:22517-1794560400-1794567600@healthlincchc.org
SUMMARY:TotLinc - HealthLinc Newton
DESCRIPTION:Join HealthLinc at The Harvest Hangout every second Friday of the month to learn through play at TotLinc. With fun activities\, resources and more\, you won’t want to miss it! \n📅Every second Friday of the month (6/12\, 7/10\, 8/14\, 9/11\, 10/9\, 11/13\, 12/11) \n⌚9:00 a.m.-11:00 a.m. \n📍The Harvest Hangout – 309 S. Newton St.\, Goodland\, IN 47948
URL:https://healthlincchc.org/event/22507/2026-11-13/
LOCATION:The Harvest Hangout\, 309 S. Newton St.\, Goodland\, 47948\, United States
ATTACH;FMTTYPE=image/png:https://healthlincchc.org/wp-content/uploads/TotLinc-2026-Facebook-Banner-NEWTON-ENG.png
END:VEVENT
BEGIN:VEVENT
DTSTART;TZID=America/Chicago:20261211T090000
DTEND;TZID=America/Chicago:20261211T110000
DTSTAMP:20260424T043538
CREATED:20260413T203821Z
LAST-MODIFIED:20260421T184914Z
UID:22518-1796979600-1796986800@healthlincchc.org
SUMMARY:TotLinc - HealthLinc Newton
DESCRIPTION:Join HealthLinc at The Harvest Hangout every second Friday of the month to learn through play at TotLinc. With fun activities\, resources and more\, you won’t want to miss it! \n📅Every second Friday of the month (6/12\, 7/10\, 8/14\, 9/11\, 10/9\, 11/13\, 12/11) \n⌚9:00 a.m.-11:00 a.m. \n📍The Harvest Hangout – 309 S. Newton St.\, Goodland\, IN 47948
URL:https://healthlincchc.org/event/22507/2026-12-11/
LOCATION:The Harvest Hangout\, 309 S. Newton St.\, Goodland\, 47948\, United States
ATTACH;FMTTYPE=image/png:https://healthlincchc.org/wp-content/uploads/TotLinc-2026-Facebook-Banner-NEWTON-ENG.png
END:VEVENT
END:VCALENDAR