BEGIN:VCALENDAR
VERSION:2.0
PRODID:-//HealthLinc - ECPv6.13.2.1//NONSGML v1.0//EN
CALSCALE:GREGORIAN
METHOD:PUBLISH
X-WR-CALNAME:HealthLinc
X-ORIGINAL-URL:https://healthlincchc.org
X-WR-CALDESC:Events for HealthLinc
REFRESH-INTERVAL;VALUE=DURATION:PT1H
X-Robots-Tag:noindex
X-PUBLISHED-TTL:PT1H
BEGIN:VTIMEZONE
TZID:America/Chicago
BEGIN:DAYLIGHT
TZOFFSETFROM:-0600
TZOFFSETTO:-0500
TZNAME:CDT
DTSTART:20260308T080000
END:DAYLIGHT
BEGIN:STANDARD
TZOFFSETFROM:-0500
TZOFFSETTO:-0600
TZNAME:CST
DTSTART:20261101T070000
END:STANDARD
END:VTIMEZONE
BEGIN:VEVENT
DTSTART;TZID=America/Chicago:20260421T160000
DTEND;TZID=America/Chicago:20260421T180000
DTSTAMP:20260420T122925
CREATED:20260226T214257Z
LAST-MODIFIED:20260324T213700Z
UID:22349-1776787200-1776794400@healthlincchc.org
SUMMARY:Autism Awareness Event - Michigan City
DESCRIPTION:Join HealthLinc Michigan City for an Autism Awareness Event on Tuesday\, April 21. The event will feature a kids cooking demonstration\, fun giveaways\, tasty snacks\, sensory bin creations\, helpful resources and more!\n📅Tuesday\, April 21\, 2026⌚4:00 p.m. – 6:00 p.m. CST📍HealthLinc Michigan City – 200 Alfred St.
URL:https://healthlincchc.org/event/autism-awareness-event/
LOCATION:HealthLinc Michigan City\, 200 Alfred St.\, Michigan City\, IN\, 46360\, United States
ATTACH;FMTTYPE=image/png:https://healthlincchc.org/wp-content/uploads/Autsim-Awareness-Facebook-Banners-MC-ENG.png
GEO:41.7148113;-86.9001442
X-APPLE-STRUCTURED-LOCATION;VALUE=URI;X-ADDRESS=HealthLinc Michigan City 200 Alfred St. Michigan City IN 46360 United States;X-APPLE-RADIUS=500;X-TITLE=200 Alfred St.:geo:-86.9001442,41.7148113
END:VEVENT
BEGIN:VEVENT
DTSTART;TZID=America/Chicago:20260424T103000
DTEND;TZID=America/Chicago:20260424T120000
DTSTAMP:20260420T122925
CREATED:20260401T183722Z
LAST-MODIFIED:20260401T183722Z
UID:22433-1777026600-1777032000@healthlincchc.org
SUMMARY:Nutrition Awareness Session - La Porte
DESCRIPTION:Learn how to make the right dietary choices for your body at HealthLinc La Porte’s Nutrition Awareness Session at Cambridge Square Apartments in Building A on Friday\, April 24. With a food tasting\, no-cost blood pressure screenings\, resources\, giveaways and more\, you can both learn about your body and how safeguard your physical health through nutrition.\n\n Friday\, April 24\, 202610:30 a.m.-12:00 p.m. CSTCambridge Square Apartments (Building A) – 1111 Longwood Dr.\, La Porte\, IN 46350
URL:https://healthlincchc.org/event/nutrition-awareness-session-la-porte/
LOCATION:Cambridge Square Apartments\, 1111 Longwood Dr.\, La Porte\, 46350\, United States
ATTACH;FMTTYPE=image/jpeg:https://healthlincchc.org/wp-content/uploads/Nutrition-Awareness-Session-2026-FacebookBanner-LP_ENG.jpg
END:VEVENT
BEGIN:VEVENT
DTSTART;TZID=America/Chicago:20260430T123000
DTEND;TZID=America/Chicago:20260430T143000
DTSTAMP:20260420T122925
CREATED:20260414T151809Z
LAST-MODIFIED:20260414T151809Z
UID:22519-1777552200-1777559400@healthlincchc.org
SUMMARY:Nutrition Awareness Session - Knox
DESCRIPTION:Learn how to make the right dietary choices for your body at HealthLinc Knox’s Nutrition Awareness Session at Community Services of Starke County on Thursday\, April 30. With a cooking demo\, food samples\, a grocery raffle\, resources and more\, you can both learn about your body and how to safeguard your physical health through nutrition.\n\n Thursday\, April 30\, 202612:30 p.m.-2:30 p.m. CSTCommunity Services of Starke County – 311 E Culver Rd.\, Knox\, IN 46534
URL:https://healthlincchc.org/event/nutrition-awareness-session-knox/
LOCATION:Community Services of Starke County\, 311 E Culver Rd.\, Knox\, 46534\, United States
ATTACH;FMTTYPE=image/png:https://healthlincchc.org/wp-content/uploads/Nutrition-Awareness-Facebook-Banner-2026.png
END:VEVENT
BEGIN:VEVENT
DTSTART;VALUE=DATE:20260501
DTEND;VALUE=DATE:20260601
DTSTAMP:20260420T122925
CREATED:20260415T221519Z
LAST-MODIFIED:20260416T142941Z
UID:22540-1777593600-1780271999@healthlincchc.org
SUMMARY:Women's Wellness Raffle - HealthLinc Knox
DESCRIPTION:Schedule your women’s wellness exam for any day during the month of May to be entered into a raffle for the chance to win a $50 gift card! The raffle drawing will be held on June 1 to determine the winner. \n📅The month of May \n⌚At any time! \n📍HealthLinc Knox – 104 E. Culver Rd.\, Ste. 106\, Knox\, IN 46534
URL:https://healthlincchc.org/event/womens-wellness-raffle-healthlinc-knox/
LOCATION:HealthLinc – Knox\, 104 E. Culver Rd. Ste. 106\, Knox\, IN\, 46534\, United States
ATTACH;FMTTYPE=image/png:https://healthlincchc.org/wp-content/uploads/Womens-Wellness-2026-Facebook-Banner.png
GEO:41.2883129;-86.6223106
X-APPLE-STRUCTURED-LOCATION;VALUE=URI;X-ADDRESS=HealthLinc – Knox 104 E. Culver Rd. Ste. 106 Knox IN 46534 United States;X-APPLE-RADIUS=500;X-TITLE=104 E. Culver Rd. Ste. 106:geo:-86.6223106,41.2883129
END:VEVENT
BEGIN:VEVENT
DTSTART;TZID=America/Chicago:20260507T160000
DTEND;TZID=America/Chicago:20260507T180000
DTSTAMP:20260420T122925
CREATED:20260324T211955Z
LAST-MODIFIED:20260324T212018Z
UID:22399-1778169600-1778176800@healthlincchc.org
SUMMARY:Autism Awareness Event - Knox
DESCRIPTION:Join HealthLinc Knox at Henry F. Schricker Public Library for an Autism Awareness Event on Thursday\, May 7. The event will feature sensory bin creations\, tasty refreshments\, helpful resources and more!\n\n📅Thursday\, May 7\, 2026⌚4:00 p.m. – 6:00 p.m. CST📍Henry F. Schricker Public Library – 152 W. Culver Rd.\, Knox\, IN 46534
URL:https://healthlincchc.org/event/22399/
LOCATION:Starke County Public Library\, 152 W. Culver Rd\, Knox\, IN\, 46534\, United States
ATTACH;FMTTYPE=image/png:https://healthlincchc.org/wp-content/uploads/Autsim-Awareness-Facebook-Banners-KNOX-ENG.png
GEO:41.2875969;-86.625284
X-APPLE-STRUCTURED-LOCATION;VALUE=URI;X-ADDRESS=Starke County Public Library 152 W. Culver Rd Knox IN 46534 United States;X-APPLE-RADIUS=500;X-TITLE=152 W. Culver Rd:geo:-86.625284,41.2875969
END:VEVENT
BEGIN:VEVENT
DTSTART;TZID=America/Chicago:20260508T090000
DTEND;TZID=America/Chicago:20260508T110000
DTSTAMP:20260420T122925
CREATED:20260413T203821Z
LAST-MODIFIED:20260416T142528Z
UID:22511-1778230800-1778238000@healthlincchc.org
SUMMARY:TotLinc - HealthLinc Newton
DESCRIPTION:Join HealthLinc at The Harvest Hangout every second Friday of the month to learn through play at TotLinc. With fun activities\, resources and more\, you won’t want to miss it! \n📅Every second Friday of the month (4/10\, 5/8\, 6/12\, 7/10\, 8/14\, 9/11\, 10/9\, 11/13\, 12/11) \n⌚9:00 a.m.-11:00 a.m. \n📍The Harvest Hangout – 309 S. Newton St.\, Goodland\, IN 47948
URL:https://healthlincchc.org/event/22507/2026-05-08/
LOCATION:The Harvest Hangout\, 309 S. Newton St.\, Goodland\, 47948\, United States
ATTACH;FMTTYPE=image/png:https://healthlincchc.org/wp-content/uploads/TotLinc-2026-Facebook-Banner-NEWTON-ENG.png
END:VEVENT
BEGIN:VEVENT
DTSTART;TZID=America/Chicago:20260514T160000
DTEND;TZID=America/Chicago:20260514T180000
DTSTAMP:20260420T122925
CREATED:20260417T170511Z
LAST-MODIFIED:20260417T170511Z
UID:22545-1778774400-1778781600@healthlincchc.org
SUMMARY:Pizza & Paint - HealthLinc Michigan City
DESCRIPTION:Take a breath\, take a break and join us for a time of creativity at HealthLinc East Chicago’s Pizza & Paint event! \nOn Thursday\, May 14\, from 4:00 p.m. to 6:00 p.m. CST\, we invite the community to join us at East Chicago Salvation Army for a relaxed and supportive event focused on mental health and well-being. \nNo painting experience is needed – just come as you are. Whether you’re looking to learn new ways to manage stress\, do something creative or enjoy some pizza\, this event is for you. \nGrab a slice\, pick up a paintbrush and let yourself slow down. We’d love to see you there! 🍕🎨 \n📅Thursday\, May 14\, 2026 \n⌚4:00 p.m. – 6:00 p.m. CST \n📍HealthLinc Michigan City – 200 Alfred Ave\, Michigan City\, IN 46360 \n📱Please RSVP to Melissa by May 12 by calling 219-872-6200 Ext. 2051 \n 
URL:https://healthlincchc.org/event/pizza-paint-healthlinc-michigan-city/
LOCATION:HealthLinc Michigan City\, 200 Alfred St.\, Michigan City\, IN\, 46360\, United States
ATTACH;FMTTYPE=image/png:https://healthlincchc.org/wp-content/uploads/Pizza-and-Paint-Facebook-Banners-2026-MC-ENG.png
GEO:41.7148113;-86.9001442
X-APPLE-STRUCTURED-LOCATION;VALUE=URI;X-ADDRESS=HealthLinc Michigan City 200 Alfred St. Michigan City IN 46360 United States;X-APPLE-RADIUS=500;X-TITLE=200 Alfred St.:geo:-86.9001442,41.7148113
END:VEVENT
BEGIN:VEVENT
DTSTART;TZID=America/Chicago:20260520T113000
DTEND;TZID=America/Chicago:20260520T133000
DTSTAMP:20260420T122925
CREATED:20260410T214717Z
LAST-MODIFIED:20260410T214717Z
UID:22503-1779276600-1779283800@healthlincchc.org
SUMMARY:Pizza & Paint - East Chicago
DESCRIPTION:Take a breath\, take a break and join us for a time of creativity at HealthLinc East Chicago’s Pizza & Paint event! \nOn Wednesday\, May 20\, from 11:30 a.m. to 1:30 p.m. CST\, we invite the community to join us at East Chicago Salvation Army for a relaxed and supportive event focused on mental health and well-being. \nNo painting experience is needed – just come as you are. Whether you’re looking to learn new ways to manage stress\, do something creative or enjoy some pizza\, this event is for you. \nGrab a slice\, pick up a paintbrush and let yourself slow down. We’d love to see you there! 🍕🎨 \n📅Wednesday\, May 20\, 2026⌚11:30 a.m. – 1:30 p.m. CST📍East Chicago Salvation Army – 513 W. Chicago Ave.\, East Chicago\, IN.\, 46312
URL:https://healthlincchc.org/event/pizza-paint-east-chicago/
LOCATION:East Chicago Salvation Army\, 513 W. Chicago Ave.\, East Chicago\, IN\, 46312\, United States
ATTACH;FMTTYPE=image/png:https://healthlincchc.org/wp-content/uploads/Pizza-and-Paint-Facebook-Banners-2026-Generic-ENG.png
END:VEVENT
BEGIN:VEVENT
DTSTART;TZID=America/Chicago:20260612T090000
DTEND;TZID=America/Chicago:20260612T110000
DTSTAMP:20260420T122925
CREATED:20260413T203821Z
LAST-MODIFIED:20260413T203821Z
UID:22512-1781254800-1781262000@healthlincchc.org
SUMMARY:
DESCRIPTION:Join HealthLinc at The Harvest Hangout every second Friday of the month to learn through play at TotLinc. With fun activities\, resources and more\, you won’t want to miss it! \n📅Every second Friday of the month (4/10\, 5/8\, 6/12\, 7/10\, 8/14\, 9/11\, 10/9\, 11/13\, 12/11) \n⌚9:00 a.m.-11:00 a.m. \n📍The Harvest Hangout – 309 S. Newton St.\, Goodland\, IN 47948
URL:https://healthlincchc.org/event/22507/2026-06-12/
LOCATION:The Harvest Hangout\, 309 S. Newton St.\, Goodland\, 47948\, United States
ATTACH;FMTTYPE=image/png:https://healthlincchc.org/wp-content/uploads/TotLinc-2026-Facebook-Banner-NEWTON-ENG.png
END:VEVENT
BEGIN:VEVENT
DTSTART;TZID=America/Chicago:20260619T100000
DTEND;TZID=America/Chicago:20260619T110000
DTSTAMP:20260420T122925
CREATED:20260123T154738Z
LAST-MODIFIED:20260123T154738Z
UID:22196-1781863200-1781866800@healthlincchc.org
SUMMARY:Yoga Baby Circle with HealthLinc and Divine Child Yoga
DESCRIPTION:Join HealthLinc and Divine Child Yoga for a baby yoga circle!\n\nBring your little one for a relaxing yoga session designed for babies and their caregivers.\n\nThis will be a series of events starting in February. The schedule includes:\n\n February 20 April 17 June 19 August 21 October 16 November 20\n\nTo make sure there is enough room for everyone\, please RSVP to Melissa at 219-872-6200 Ext. 2051.\n\nThese yoga sessions are designed for babies 2-12 months old. Please bring a blanket or a towel with you.
URL:https://healthlincchc.org/event/yoga-baby-circle-with-healthlinc-and-divine-child-yoga/2026-06-19/
LOCATION:HealthLinc Michigan City\, 200 Alfred St.\, Michigan City\, IN\, 46360\, United States
ATTACH;FMTTYPE=image/png:https://healthlincchc.org/wp-content/uploads/Baby-Yoga-Event-2026-Facebook-Banner-MC-ENG.png
GEO:41.7148113;-86.9001442
X-APPLE-STRUCTURED-LOCATION;VALUE=URI;X-ADDRESS=HealthLinc Michigan City 200 Alfred St. Michigan City IN 46360 United States;X-APPLE-RADIUS=500;X-TITLE=200 Alfred St.:geo:-86.9001442,41.7148113
END:VEVENT
BEGIN:VEVENT
DTSTART;TZID=America/Chicago:20260624T110000
DTEND;TZID=America/Chicago:20260624T130000
DTSTAMP:20260420T122925
CREATED:20260213T152924Z
LAST-MODIFIED:20260213T152924Z
UID:22305-1782298800-1782306000@healthlincchc.org
SUMMARY:Medicare Presentation and Bingo
DESCRIPTION:Learn more about Medicare while trying your luck at Bingo during HealthLinc’s Medicare Presentation and Bingo events this February\, June\, and October! Bring a friend or family member with you to play bingo\, browse vendors\, enter raffles and enjoy snacks\, all while learning the ins and outs of Medicare. \n📅Wednesdays February 25\, June 24 and October 28 \n⌚11:00 a.m.-1:00 p.m. CST \n📍Wicker Memorial Park Clubhouse – 8554 Indianapolis Blvd.\, Highland\, IN 46322
URL:https://healthlincchc.org/event/medicare-presentation-and-bingo-2/
LOCATION:Wicker Memorial Park Clubhouse\, 8554 Indianapolis Blvd.\, Highland\, 46322\, United States
ATTACH;FMTTYPE=image/png:https://healthlincchc.org/wp-content/uploads/Medicare-BINGO-2026-Facebook-Banner-EC-ENG.png
END:VEVENT
BEGIN:VEVENT
DTSTART;TZID=America/Chicago:20260710T090000
DTEND;TZID=America/Chicago:20260710T110000
DTSTAMP:20260420T122925
CREATED:20260413T203821Z
LAST-MODIFIED:20260413T203821Z
UID:22513-1783674000-1783681200@healthlincchc.org
SUMMARY:
DESCRIPTION:Join HealthLinc at The Harvest Hangout every second Friday of the month to learn through play at TotLinc. With fun activities\, resources and more\, you won’t want to miss it! \n📅Every second Friday of the month (4/10\, 5/8\, 6/12\, 7/10\, 8/14\, 9/11\, 10/9\, 11/13\, 12/11) \n⌚9:00 a.m.-11:00 a.m. \n📍The Harvest Hangout – 309 S. Newton St.\, Goodland\, IN 47948
URL:https://healthlincchc.org/event/22507/2026-07-10/
LOCATION:The Harvest Hangout\, 309 S. Newton St.\, Goodland\, 47948\, United States
ATTACH;FMTTYPE=image/png:https://healthlincchc.org/wp-content/uploads/TotLinc-2026-Facebook-Banner-NEWTON-ENG.png
END:VEVENT
BEGIN:VEVENT
DTSTART;TZID=America/Chicago:20260814T090000
DTEND;TZID=America/Chicago:20260814T110000
DTSTAMP:20260420T122925
CREATED:20260413T203821Z
LAST-MODIFIED:20260413T203821Z
UID:22514-1786698000-1786705200@healthlincchc.org
SUMMARY:
DESCRIPTION:Join HealthLinc at The Harvest Hangout every second Friday of the month to learn through play at TotLinc. With fun activities\, resources and more\, you won’t want to miss it! \n📅Every second Friday of the month (4/10\, 5/8\, 6/12\, 7/10\, 8/14\, 9/11\, 10/9\, 11/13\, 12/11) \n⌚9:00 a.m.-11:00 a.m. \n📍The Harvest Hangout – 309 S. Newton St.\, Goodland\, IN 47948
URL:https://healthlincchc.org/event/22507/2026-08-14/
LOCATION:The Harvest Hangout\, 309 S. Newton St.\, Goodland\, 47948\, United States
ATTACH;FMTTYPE=image/png:https://healthlincchc.org/wp-content/uploads/TotLinc-2026-Facebook-Banner-NEWTON-ENG.png
END:VEVENT
BEGIN:VEVENT
DTSTART;TZID=America/Chicago:20260821T100000
DTEND;TZID=America/Chicago:20260821T110000
DTSTAMP:20260420T122925
CREATED:20260123T154738Z
LAST-MODIFIED:20260123T154738Z
UID:22197-1787306400-1787310000@healthlincchc.org
SUMMARY:Yoga Baby Circle with HealthLinc and Divine Child Yoga
DESCRIPTION:Join HealthLinc and Divine Child Yoga for a baby yoga circle!\n\nBring your little one for a relaxing yoga session designed for babies and their caregivers.\n\nThis will be a series of events starting in February. The schedule includes:\n\n February 20 April 17 June 19 August 21 October 16 November 20\n\nTo make sure there is enough room for everyone\, please RSVP to Melissa at 219-872-6200 Ext. 2051.\n\nThese yoga sessions are designed for babies 2-12 months old. Please bring a blanket or a towel with you.
URL:https://healthlincchc.org/event/yoga-baby-circle-with-healthlinc-and-divine-child-yoga/2026-08-21/
LOCATION:HealthLinc Michigan City\, 200 Alfred St.\, Michigan City\, IN\, 46360\, United States
ATTACH;FMTTYPE=image/png:https://healthlincchc.org/wp-content/uploads/Baby-Yoga-Event-2026-Facebook-Banner-MC-ENG.png
GEO:41.7148113;-86.9001442
X-APPLE-STRUCTURED-LOCATION;VALUE=URI;X-ADDRESS=HealthLinc Michigan City 200 Alfred St. Michigan City IN 46360 United States;X-APPLE-RADIUS=500;X-TITLE=200 Alfred St.:geo:-86.9001442,41.7148113
END:VEVENT
BEGIN:VEVENT
DTSTART;TZID=America/Chicago:20260911T090000
DTEND;TZID=America/Chicago:20260911T110000
DTSTAMP:20260420T122925
CREATED:20260413T203821Z
LAST-MODIFIED:20260413T203821Z
UID:22515-1789117200-1789124400@healthlincchc.org
SUMMARY:
DESCRIPTION:Join HealthLinc at The Harvest Hangout every second Friday of the month to learn through play at TotLinc. With fun activities\, resources and more\, you won’t want to miss it! \n📅Every second Friday of the month (4/10\, 5/8\, 6/12\, 7/10\, 8/14\, 9/11\, 10/9\, 11/13\, 12/11) \n⌚9:00 a.m.-11:00 a.m. \n📍The Harvest Hangout – 309 S. Newton St.\, Goodland\, IN 47948
URL:https://healthlincchc.org/event/22507/2026-09-11/
LOCATION:The Harvest Hangout\, 309 S. Newton St.\, Goodland\, 47948\, United States
ATTACH;FMTTYPE=image/png:https://healthlincchc.org/wp-content/uploads/TotLinc-2026-Facebook-Banner-NEWTON-ENG.png
END:VEVENT
BEGIN:VEVENT
DTSTART;TZID=America/Chicago:20261009T090000
DTEND;TZID=America/Chicago:20261009T110000
DTSTAMP:20260420T122925
CREATED:20260413T203821Z
LAST-MODIFIED:20260413T203821Z
UID:22516-1791536400-1791543600@healthlincchc.org
SUMMARY:
DESCRIPTION:Join HealthLinc at The Harvest Hangout every second Friday of the month to learn through play at TotLinc. With fun activities\, resources and more\, you won’t want to miss it! \n📅Every second Friday of the month (4/10\, 5/8\, 6/12\, 7/10\, 8/14\, 9/11\, 10/9\, 11/13\, 12/11) \n⌚9:00 a.m.-11:00 a.m. \n📍The Harvest Hangout – 309 S. Newton St.\, Goodland\, IN 47948
URL:https://healthlincchc.org/event/22507/2026-10-09/
LOCATION:The Harvest Hangout\, 309 S. Newton St.\, Goodland\, 47948\, United States
ATTACH;FMTTYPE=image/png:https://healthlincchc.org/wp-content/uploads/TotLinc-2026-Facebook-Banner-NEWTON-ENG.png
END:VEVENT
BEGIN:VEVENT
DTSTART;TZID=America/Chicago:20261016T100000
DTEND;TZID=America/Chicago:20261016T110000
DTSTAMP:20260420T122925
CREATED:20260123T154738Z
LAST-MODIFIED:20260123T154738Z
UID:22198-1792144800-1792148400@healthlincchc.org
SUMMARY:Yoga Baby Circle with HealthLinc and Divine Child Yoga
DESCRIPTION:Join HealthLinc and Divine Child Yoga for a baby yoga circle!\n\nBring your little one for a relaxing yoga session designed for babies and their caregivers.\n\nThis will be a series of events starting in February. The schedule includes:\n\n February 20 April 17 June 19 August 21 October 16 November 20\n\nTo make sure there is enough room for everyone\, please RSVP to Melissa at 219-872-6200 Ext. 2051.\n\nThese yoga sessions are designed for babies 2-12 months old. Please bring a blanket or a towel with you.
URL:https://healthlincchc.org/event/yoga-baby-circle-with-healthlinc-and-divine-child-yoga/2026-10-16/
LOCATION:HealthLinc Michigan City\, 200 Alfred St.\, Michigan City\, IN\, 46360\, United States
ATTACH;FMTTYPE=image/png:https://healthlincchc.org/wp-content/uploads/Baby-Yoga-Event-2026-Facebook-Banner-MC-ENG.png
GEO:41.7148113;-86.9001442
X-APPLE-STRUCTURED-LOCATION;VALUE=URI;X-ADDRESS=HealthLinc Michigan City 200 Alfred St. Michigan City IN 46360 United States;X-APPLE-RADIUS=500;X-TITLE=200 Alfred St.:geo:-86.9001442,41.7148113
END:VEVENT
BEGIN:VEVENT
DTSTART;TZID=America/Chicago:20261028T110000
DTEND;TZID=America/Chicago:20261028T130000
DTSTAMP:20260420T122925
CREATED:20260213T153939Z
LAST-MODIFIED:20260213T153939Z
UID:22306-1793185200-1793192400@healthlincchc.org
SUMMARY:Medicare Presentation and Bingo
DESCRIPTION:Learn more about Medicare while trying your luck at Bingo during HealthLinc’s Medicare Presentation and Bingo events this February\, June\, and October! Bring a friend or family member with you to play bingo\, browse vendors\, enter raffles and enjoy snacks\, all while learning the ins and outs of Medicare. \n📅Wednesdays February 25\, June 24 and October 28 \n⌚11:00 a.m.-1:00 p.m. CST \n📍Wicker Memorial Park Clubhouse – 8554 Indianapolis Blvd.\, Highland\, IN 46322
URL:https://healthlincchc.org/event/medicare-presentation-and-bingo-3/
LOCATION:Wicker Memorial Park Clubhouse\, 8554 Indianapolis Blvd.\, Highland\, 46322\, United States
ATTACH;FMTTYPE=image/png:https://healthlincchc.org/wp-content/uploads/Medicare-BINGO-2026-Facebook-Banner-EC-ENG.png
END:VEVENT
BEGIN:VEVENT
DTSTART;TZID=America/Chicago:20261113T090000
DTEND;TZID=America/Chicago:20261113T110000
DTSTAMP:20260420T122925
CREATED:20260413T203821Z
LAST-MODIFIED:20260413T203821Z
UID:22517-1794560400-1794567600@healthlincchc.org
SUMMARY:
DESCRIPTION:Join HealthLinc at The Harvest Hangout every second Friday of the month to learn through play at TotLinc. With fun activities\, resources and more\, you won’t want to miss it! \n📅Every second Friday of the month (4/10\, 5/8\, 6/12\, 7/10\, 8/14\, 9/11\, 10/9\, 11/13\, 12/11) \n⌚9:00 a.m.-11:00 a.m. \n📍The Harvest Hangout – 309 S. Newton St.\, Goodland\, IN 47948
URL:https://healthlincchc.org/event/22507/2026-11-13/
LOCATION:The Harvest Hangout\, 309 S. Newton St.\, Goodland\, 47948\, United States
ATTACH;FMTTYPE=image/png:https://healthlincchc.org/wp-content/uploads/TotLinc-2026-Facebook-Banner-NEWTON-ENG.png
END:VEVENT
BEGIN:VEVENT
DTSTART;TZID=America/Chicago:20261211T090000
DTEND;TZID=America/Chicago:20261211T110000
DTSTAMP:20260420T122925
CREATED:20260413T203821Z
LAST-MODIFIED:20260413T203821Z
UID:22518-1796979600-1796986800@healthlincchc.org
SUMMARY:
DESCRIPTION:Join HealthLinc at The Harvest Hangout every second Friday of the month to learn through play at TotLinc. With fun activities\, resources and more\, you won’t want to miss it! \n📅Every second Friday of the month (4/10\, 5/8\, 6/12\, 7/10\, 8/14\, 9/11\, 10/9\, 11/13\, 12/11) \n⌚9:00 a.m.-11:00 a.m. \n📍The Harvest Hangout – 309 S. Newton St.\, Goodland\, IN 47948
URL:https://healthlincchc.org/event/22507/2026-12-11/
LOCATION:The Harvest Hangout\, 309 S. Newton St.\, Goodland\, 47948\, United States
ATTACH;FMTTYPE=image/png:https://healthlincchc.org/wp-content/uploads/TotLinc-2026-Facebook-Banner-NEWTON-ENG.png
END:VEVENT
END:VCALENDAR